BEGIN:VCALENDAR
VERSION:2.0
PRODID:-//Démocratie &amp; Spiritualité - ECPv6.1.3//NONSGML v1.0//EN
CALSCALE:GREGORIAN
METHOD:PUBLISH
X-WR-CALNAME:Démocratie &amp; Spiritualité
X-ORIGINAL-URL:https://www.democratieetspiritualite.org
X-WR-CALDESC:évènements pour Démocratie &amp; Spiritualité
REFRESH-INTERVAL;VALUE=DURATION:PT1H
X-Robots-Tag:noindex
X-PUBLISHED-TTL:PT1H
BEGIN:VTIMEZONE
TZID:Europe/Paris
BEGIN:DAYLIGHT
TZOFFSETFROM:+0100
TZOFFSETTO:+0200
TZNAME:CEST
DTSTART:20210328T010000
END:DAYLIGHT
BEGIN:STANDARD
TZOFFSETFROM:+0200
TZOFFSETTO:+0100
TZNAME:CET
DTSTART:20211031T010000
END:STANDARD
END:VTIMEZONE
BEGIN:VEVENT
DTSTART;VALUE=DATE:20210910
DTEND;VALUE=DATE:20210913
DTSTAMP:20260422T125932
CREATED:20210617T082824Z
LAST-MODIFIED:20210618T200711Z
UID:4586-1631232000-1631491199@www.democratieetspiritualite.org
SUMMARY:Université d'Été 2021 du 10 au 12 septembre à Lyon
DESCRIPTION:Chers amis\, \nNous avons le plaisir de vous inviter à notre Université d’Été qui se tiendra du vendredi 10 septembre au dimanche 12 septembre au Centre Jean Bosco\, à Lyon. \nVous pouvez y participer sur place\, ou\, pour les plénières\, à distance. \nNous aborderons cette année le thème suivant : \nQuel sursaut spirituel aux défis auxquels est confrontée la démocratie ?\n  \nVous trouverez ici le Pré programme UE 2021 ainsi que toutes les informations sur les modalités de participation ici Fiche d’inscription UE 2021. \nVous pouvez aussi nous apporter votre soutien même sans y participer et contribuer ainsi à notre intelligence collective. \nDans l’attente de vous retrouver nombreux\, \n  \nDaniel Lenoir\, Président de Démocratie & Spiritualité  \nEliane Fremann\, Secrétaire générale de Démocratie & Spiritualité
URL:https://www.democratieetspiritualite.org/event/universite-dete-2021-du-10-au-12-septembre-a-lyon/
LOCATION:Lyon\, Centre Jean Bosco\, 14 Rue Roger Radisson\, Lyon\, 69005\, France
CATEGORIES:Université d'été
END:VEVENT
END:VCALENDAR